BEGIN:VCALENDAR
VERSION:2.0
BEGIN:VEVENT
DTSTART;TZID=Europe/Stockholm:20240121T110000
DTEND;TZID=Europe/Stockholm:20240121T120000
DTSTAMP:20260421T105021
DESCRIPTION:
SEQUENCE:0
SUMMARY:Gudstjänst
UID:2469@lawebb.se
END:VEVENT
END:VCALENDAR