BEGIN:VCALENDAR
VERSION:2.0
BEGIN:VEVENT
DTSTART;TZID=Europe/Stockholm:20240128T110000
DTEND;TZID=Europe/Stockholm:20240128T120000
DTSTAMP:20260421T103636
DESCRIPTION:
SEQUENCE:0
SUMMARY:Gudstjänst
UID:9228@lawebb.se
END:VEVENT
END:VCALENDAR