BEGIN:VCALENDAR
VERSION:2.0
BEGIN:VEVENT
DTSTART;TZID=Europe/Stockholm:20260402T183000
DTEND;TZID=Europe/Stockholm:20260402T193000
DTSTAMP:20260421T105009
DESCRIPTION:i Centrumkyrkan
SEQUENCE:0
SUMMARY:Getsemanestund
UID:2643@lawebb.se
END:VEVENT
END:VCALENDAR